BEGIN:VCALENDAR
VERSION:2.0
PRODID:-//Department Of Education//616882f7-ff23-4a9a-8592-61e63c0dfeb3
BEGIN:VTIMEZONE
TZID:Australia/Sydney
TZURL:http://tzurl.org/zoneinfo-outlook/Australia/Sydney
X-LIC-LOCATION:Australia/Sydney
BEGIN:STANDARD
TZOFFSETFROM:+1100
TZOFFSETTO:+1000
TZNAME:AEST
DTSTART:19700405T030000
RRULE:FREQ=YEARLY;BYMONTH=4;BYDAY=1SU
END:STANDARD
BEGIN:DAYLIGHT
TZOFFSETFROM:+1000
TZOFFSETTO:+1100
TZNAME:AEDT
DTSTART:19701004T020000
RRULE:FREQ=YEARLY;BYMONTH=10;BYDAY=1SU
END:DAYLIGHT
END:VTIMEZONE
CALSCALE:GREGORIAN
X-WR-TIMEZONE:Australia/Sydney
BEGIN:VEVENT
DTSTART;VALUE=DATE:20200302
DTEND;VALUE=DATE:20200303
DTSTAMP:20200302T000000Z
UID:86017c90-957f-4e8c-90fe-1633efc5428b
LOCATION:Wentworth Falls Public School Library
SUMMARY;LANGUAGE=en-us:Author Visit - Shelly Unwin
SEQUENCE:0
DESCRIPTION:Shelly Unwin will be visiting WFPS on 2nd March 2020 for K-Year 4. This is a FREE author visit thanks to the P&C.
END:VEVENT
TRANSP:TRANSPARENT
END:VCALENDAR
