BEGIN:VCALENDAR
VERSION:2.0
PRODID:-//Department Of Education//7c54e63a-801b-4b27-83bf-42913a8e0f7d
BEGIN:VTIMEZONE
TZID:Australia/Sydney
TZURL:http://tzurl.org/zoneinfo-outlook/Australia/Sydney
X-LIC-LOCATION:Australia/Sydney
BEGIN:STANDARD
TZOFFSETFROM:+1100
TZOFFSETTO:+1000
TZNAME:AEST
DTSTART:19700405T030000
RRULE:FREQ=YEARLY;BYMONTH=4;BYDAY=1SU
END:STANDARD
BEGIN:DAYLIGHT
TZOFFSETFROM:+1000
TZOFFSETTO:+1100
TZNAME:AEDT
DTSTART:19701004T020000
RRULE:FREQ=YEARLY;BYMONTH=10;BYDAY=1SU
END:DAYLIGHT
END:VTIMEZONE
CALSCALE:GREGORIAN
X-WR-TIMEZONE:Australia/Sydney
BEGIN:VEVENT
DTSTART;VALUE=DATE:20200320
DTEND;VALUE=DATE:20200321
DTSTAMP:20200320T000000Z
UID:84b7e177-7194-4500-a3bb-e4bde9d017b5
LOCATION:Wentworth Falls Public School
SUMMARY;LANGUAGE=en-us:Grandparent's Day
SEQUENCE:0
DESCRIPTION:Details to come soon.
END:VEVENT
TRANSP:TRANSPARENT
END:VCALENDAR
