BEGIN:VCALENDAR
VERSION:2.0
PRODID:-//Department Of Education//23fc20fd-97ac-4d92-931c-2c2c91efa8e1
BEGIN:VTIMEZONE
TZID:Australia/Sydney
TZURL:http://tzurl.org/zoneinfo-outlook/Australia/Sydney
X-LIC-LOCATION:Australia/Sydney
BEGIN:STANDARD
TZOFFSETFROM:+1100
TZOFFSETTO:+1000
TZNAME:AEST
DTSTART:19700405T030000
RRULE:FREQ=YEARLY;BYMONTH=4;BYDAY=1SU
END:STANDARD
BEGIN:DAYLIGHT
TZOFFSETFROM:+1000
TZOFFSETTO:+1100
TZNAME:AEDT
DTSTART:19701004T020000
RRULE:FREQ=YEARLY;BYMONTH=10;BYDAY=1SU
END:DAYLIGHT
END:VTIMEZONE
CALSCALE:GREGORIAN
X-WR-TIMEZONE:Australia/Sydney
BEGIN:VEVENT
DTSTART;TZID=Australia/Sydney:20200316T193053
DTEND;TZID=Australia/Sydney:20200316T213043
DTSTAMP:20200316T000000Z
UID:1d59e659-5bc7-4dfd-a82f-cd92f554f8af
LOCATION:Wentworth Falls Public School Library
SUMMARY;LANGUAGE=en-us:P&C AGM
SEQUENCE:0
DESCRIPTION:P&C AGM 7:30pm Monday 16th March
END:VEVENT
TRANSP:TRANSPARENT
END:VCALENDAR
