BEGIN:VCALENDAR
VERSION:2.0
PRODID:-//Department Of Education//c34ffed6-30b0-4fd8-a513-ff17e8f4e289
BEGIN:VTIMEZONE
TZID:Australia/Sydney
TZURL:http://tzurl.org/zoneinfo-outlook/Australia/Sydney
X-LIC-LOCATION:Australia/Sydney
BEGIN:STANDARD
TZOFFSETFROM:+1100
TZOFFSETTO:+1000
TZNAME:AEST
DTSTART:19700405T030000
RRULE:FREQ=YEARLY;BYMONTH=4;BYDAY=1SU
END:STANDARD
BEGIN:DAYLIGHT
TZOFFSETFROM:+1000
TZOFFSETTO:+1100
TZNAME:AEDT
DTSTART:19701004T020000
RRULE:FREQ=YEARLY;BYMONTH=10;BYDAY=1SU
END:DAYLIGHT
END:VTIMEZONE
CALSCALE:GREGORIAN
X-WR-TIMEZONE:Australia/Sydney
BEGIN:VEVENT
DTSTART;TZID=Australia/Sydney:20200312T090020
DTEND;TZID=Australia/Sydney:20200312T133000
DTSTAMP:20200312T000000Z
UID:c5ce27a8-0d97-4f15-9404-b468f546677a
LOCATION:TBD
SUMMARY;LANGUAGE=en-us:Selective High School Test
SEQUENCE:0
DESCRIPTION:The Selective High School Placement Test is designed to measure ability through tests in reading, mathematics, general ability and writing. The test is held only in NSW and only on the test date each year.
END:VEVENT
TRANSP:TRANSPARENT
END:VCALENDAR
