BEGIN:VCALENDAR
VERSION:2.0
PRODID:-//Department Of Education//08e80e12-6d44-4acb-9d40-8eb98a196fb8
BEGIN:VTIMEZONE
TZID:Australia/Sydney
TZURL:http://tzurl.org/zoneinfo-outlook/Australia/Sydney
X-LIC-LOCATION:Australia/Sydney
BEGIN:STANDARD
TZOFFSETFROM:+1100
TZOFFSETTO:+1000
TZNAME:AEST
DTSTART:19700405T030000
RRULE:FREQ=YEARLY;BYMONTH=4;BYDAY=1SU
END:STANDARD
BEGIN:DAYLIGHT
TZOFFSETFROM:+1000
TZOFFSETTO:+1100
TZNAME:AEDT
DTSTART:19701004T020000
RRULE:FREQ=YEARLY;BYMONTH=10;BYDAY=1SU
END:DAYLIGHT
END:VTIMEZONE
CALSCALE:GREGORIAN
X-WR-TIMEZONE:Australia/Sydney
BEGIN:VEVENT
DTSTART;VALUE=DATE:20200403
DTEND;VALUE=DATE:20200404
DTSTAMP:20200403T000000Z
UID:8b472ffd-1922-43c4-a28d-22599a4901e2
LOCATION:Pitt Park
SUMMARY;LANGUAGE=en-us:School Cross Country
SEQUENCE:0
DESCRIPTION:Years 3-6 and those students turning 8 years old this year will participate in the school cross country at Pitt Park. Note to follow. The back up day for the cross country is Wednesday 8th April.
END:VEVENT
TRANSP:TRANSPARENT
END:VCALENDAR
